BEGIN:VCALENDAR
VERSION:2.0
PRODID:-//ExpressionEngine Easy iCalendar plugin//NONSGML v2.0.0//EN
X-WR-TIMEZONE:America/New_York
X-WR-CALNAME:Upcoming Auctions
BEGIN:VEVENT
UID:113600
DTSTAMP:20240323T085501
DTSTART:20240323T085501
DTEND:20240323T095501
SUMMARY:Equipment - 2024 Spring Auction
LOCATION:Loudoun Fairgrounds\, 17558 Dry Mill Road\, Leesburg\, VA 20175
 \, US
DESCRIPTION:AUCTION IS ON RAIN OR SHINE! ALL ITEMS WILL BE SOLD INDOORS 
 ON A SCREEN - FOOD SERVED. Bid In-Person or Online Mark your
  calendar for our Spring 2024 Equipment and Tools Auction! C
 all Craig at 703.303.4760 to list your equipment in this auc
 tion.
URL:https://www.damewoodauctioneers.com/auctions/detail/bw113600
SEQUENCE:1
END:VEVENT
END:VCALENDAR