BEGIN:VCALENDAR
VERSION:2.0
PRODID:-//ExpressionEngine Easy iCalendar plugin//NONSGML v2.0.1//EN
X-WR-TIMEZONE:America/New_York
X-WR-CALNAME:Upcoming Auctions
BEGIN:VEVENT
UID:115569
DTSTAMP:20240226T175501
DTSTART:20240226T175501
DTEND:20240226T185501
SUMMARY:Vince Gill Items\, Flatscreen TV's\, Pyrex\, Household Items\, F
 urniture
LOCATION:312 Valley View Avenue SW\, Leesburg\, VA 20175\, US
DESCRIPTION:To prepare for a real estate auction\, our seller is down-siz
 ing and selling her Vince Gill autograph\, Kitchen Aid Mixer\,
  CDs\, Flatscreen TVs\, Furniture\, Pyrex\, Household Items\, Pus
 h Mower\, Tools and More!
URL:https://www.damewoodauctioneers.com/auctions/detail/bw115569
SEQUENCE:1
END:VEVENT
END:VCALENDAR