BEGIN:VCALENDAR
VERSION:2.0
PRODID:-//ExpressionEngine Easy iCalendar plugin//NONSGML v2.0.0//EN
X-WR-TIMEZONE:America/New_York
X-WR-CALNAME:Upcoming Auctions
BEGIN:VEVENT
UID:124066
DTSTAMP:20240726T180000
DTSTART:20240726T180000
DTEND:20240726T180100
SUMMARY:Loudoun County Fair Youth Livestock Auction
LOCATION:Loudoun Co. Fairgrounds\, 17558 Dry Mill Road\, Leesburg\, VA 2
 0175\, US
DESCRIPTION:Live In-Person Auction - No Online Bidding Damewood Auctione
 ers is proud to partner with the Loudoun County 4H Clubs to 
 help them conduct their annual youth livestock auction! Come
  by quality beef\, pork\, lamb and goat from the local Loudoun
  4H youth. You'll also be able to buy poultry including gees
 e\, ducks\, chicken and turkey\, as well as rabbits! This is a 
 great way to get top quality cuts of meat\, and support Loudo
 un County's Youth Agriculture!
URL:https://www.damewoodauctioneers.com/auctions/detail/bw124066
SEQUENCE:1
END:VEVENT
END:VCALENDAR