BEGIN:VCALENDAR
VERSION:2.0
PRODID:-//ExpressionEngine Easy iCalendar plugin//NONSGML v2.0.1//EN
X-WR-TIMEZONE:America/New_York
X-WR-CALNAME:Upcoming Auctions
BEGIN:VEVENT
UID:126473
DTSTAMP:20240913T095500
DTSTART:20240913T095500
DTEND:20240913T105500
SUMMARY:US Coins\, Sportsman and Hunting Items\, Golf Cart\, Skid Steer
 \, Lawn Mowers\, Antiques - Bid In Person or Online
LOCATION:Loudoun County Fairgrounds\, 17558 Dry Mill Road\, Leesburg\, V
 A 20175\, US
DESCRIPTION:Bid In-Person or Online! Our Early September Fairgrounds Con
 signment Auction features dozen of U.S. Silver Dollars\, Spo
 rtsman items\, Sports Trading Cards\, Kubota Zero Turn and Rid
 ing Mowers\, Skid Steer\, Tools\, Golf Cart\, Antique Furniture\,
  Framed Art and More! Don't miss this quality auction with h
 undreds of lots for all types of buyers and collectors.
URL:https://www.damewoodauctioneers.com/auctions/detail/bw126473
SEQUENCE:1
END:VEVENT
END:VCALENDAR