BEGIN:VCALENDAR
VERSION:2.0
PRODID:-//ExpressionEngine Easy iCalendar plugin//NONSGML v2.0.1//EN
X-WR-TIMEZONE:America/New_York
X-WR-CALNAME:Upcoming Auctions
BEGIN:VEVENT
UID:129846
DTSTAMP:20241108T075000
DTSTART:20241108T075000
DTEND:20241108T085000
SUMMARY:Friday Fall Tools\, Power Tools and Hand Tools - Bid In-perso
 n or Online
LOCATION:17558 Dry Mill Road\, Leesburg\, VA 20175\, US
DESCRIPTION:Call us to list your valuable tools for sale today! Bid In
 -Person or Online! Mark your calendar for our Fall 2024 Equi
 pment and Tools Auction! Call Craig at 703.303.4760 to list 
 your equipment in this auction.
URL:https://www.damewoodauctioneers.com/auctions/detail/bw129846
SEQUENCE:1
END:VEVENT
END:VCALENDAR