BEGIN:VCALENDAR
VERSION:2.0
PRODID:-//ExpressionEngine Easy iCalendar plugin//NONSGML v2.0.0//EN
X-WR-TIMEZONE:America/New_York
X-WR-CALNAME:Upcoming Auctions
BEGIN:VEVENT
UID:134130
DTSTAMP:20250329T085000
DTSTART:20250329T085000
DTEND:20250329T095000
SUMMARY:Equipment - Spring Equipment 2025 - Session 2
LOCATION:Loudoun County Fairgrounds\, 17558 Dry Mill Road\, Leesburg\, V
 A 20175\, US
DESCRIPTION:Call us to list your valuable tools for sale today! Bid In
 -Person or Online! Mark your calendar March 28th and 29th fo
 r our Spring 2025 Equipment and Tools Auction! Call Craig a
 t 703.303.4760\, Brian at 540.454.2326 or Ike at 703.401.7085
  to list your equipment in this auction.
URL:https://www.damewoodauctioneers.com/auctions/detail/bw134130
SEQUENCE:1
END:VEVENT
END:VCALENDAR