BEGIN:VCALENDAR
VERSION:2.0
PRODID:-//ExpressionEngine Easy iCalendar plugin//NONSGML v2.0.1//EN
X-WR-TIMEZONE:America/New_York
X-WR-CALNAME:Upcoming Auctions
BEGIN:VEVENT
UID:140945
DTSTAMP:20250627T085000
DTSTART:20250627T085000
DTEND:20250627T095000
SUMMARY:Equipment and Truck Auction - Bid In-Person or Online
LOCATION:17558 Dry Mill Rd\, Leesburg\, VA 20175\, US
DESCRIPTION:Call us to sell trucks\, trailers\, tractors\, skid steers and 
 attachments\, farm machinery\, construction equipment\, 3-point
  implements\, lawn mowers\, zero-turns\, hay equipment\, ATVs an
 d motorcycles. We do not have room for anymore tools\, hardwa
 re\, building supplies\, power tools\, or shop tools for this J
 une equipment auction. Call Craig at 703.303.4760\, Ike at 70
 3.401.7085 or Brian at 540.454.2326 to sell.
URL:https://www.damewoodauctioneers.com/auctions/detail/bw140945
SEQUENCE:1
END:VEVENT
END:VCALENDAR