BEGIN:VCALENDAR
VERSION:2.0
PRODID:-//ExpressionEngine Easy iCalendar plugin//NONSGML v2.0.0//EN
X-WR-TIMEZONE:America/New_York
X-WR-CALNAME:Upcoming Auctions
BEGIN:VEVENT
UID:143272
DTSTAMP:20250725T180000
DTSTART:20250725T180000
DTEND:20250725T180500
SUMMARY:Loudoun County Fair Youth Livestock Auction
LOCATION:Loudoun Co. Fairgrounds\, 17558 Dry Mill Road\, Leesburg\, VA 2
 0175\, US
DESCRIPTION:Join us for the annual Loudoun County Fair Livestock Auction
  on Friday\, July 25th\, 2025! 
URL:https://www.damewoodauctioneers.com/auctions/detail/bw143272
SEQUENCE:1
END:VEVENT
END:VCALENDAR