BEGIN:VCALENDAR
VERSION:2.0
PRODID:-//ExpressionEngine Easy iCalendar plugin//NONSGML v2.0.1//EN
X-WR-TIMEZONE:America/New_York
X-WR-CALNAME:Upcoming Auctions
BEGIN:VEVENT
UID:149152
DTSTAMP:20251205T085000
DTSTART:20251205T085000
DTEND:20251205T095000
SUMMARY:David A McKimmey & McKimmey Farms - John Deere Tractors\, Hay
  Equipment\, Trucks\, Mowers\, Implements & Tools - Bid Live In
 -Person & Online
LOCATION:42880 Spinks Ferry Road\, Leesburg\, VA 20176\, US
DESCRIPTION:Bid Live In-Person & Online Having made the decision to reti
 re from farming\, David McKimmey of McKimmey Farms has contra
 cted us to sell John Deere tractors\, John Deere and Frontier
  Hay Equipment\, Batwing rotary mower\, 3 point Implements\, Tr
 ailers\, ATVs\, Farm Supplies\, and a 2017 Ford F-350 PowerStro
 ke Pick up truck. Don't miss your opportunity to own some we
 ll-kept and field-ready machinery!
URL:https://www.damewoodauctioneers.com/auctions/detail/bw149152
SEQUENCE:1
END:VEVENT
END:VCALENDAR