BEGIN:VCALENDAR
VERSION:2.0
PRODID:-//ExpressionEngine Easy iCalendar plugin//NONSGML v2.0.1//EN
X-WR-TIMEZONE:America/New_York
X-WR-CALNAME:Upcoming Auctions
BEGIN:VEVENT
UID:150280
DTSTAMP:20251119T155000
DTSTART:20251119T155000
DTEND:20251119T165000
SUMMARY:The Historic
LOCATION:3 West King Street\, Abbottstown\, PA 17301\, US
DESCRIPTION:Virtual Auction No In-Person Bidding! Bid now on items from 
 the Historic Dempwolf-Hafer House! The full catalog of it
 ems has been posted including: Bronze Samurai Statues\, Venet
 ian Blackamoor Statues\, Artwork\, Furniture & More! Check out
  the full listing\, Pre-Bidding is live now!
URL:https://www.damewoodauctioneers.com/auctions/detail/bw150280
SEQUENCE:1
END:VEVENT
END:VCALENDAR