BEGIN:VCALENDAR
VERSION:2.0
PRODID:-//ExpressionEngine Easy iCalendar plugin//NONSGML v2.0.1//EN
X-WR-TIMEZONE:America/New_York
X-WR-CALNAME:Upcoming Auctions
BEGIN:VEVENT
UID:29647
DTSTAMP:20180803T121000
DTSTART:20180803T121000
DTEND:20180823T190000
SUMMARY:Crocks & Stoneware\, Antique Furniture\, Glassware\, China\, Rug
 s - ONLINE ONLY
LOCATION:9 N. Locust Street\, Round Hill\, VA 20141\, US
DESCRIPTION:Online-Only Estate Auction Bidding Ends on Thurs. August 23r
 d at 7:00PM Preview on Thurs. August 23rd from 3-6PM Dorothy
  Baber Patterson Irrevocable Trust 9 N. Locust Street Round 
 Hill\, VA 20141 Catalog will be finalized two weeks before th
 e auction. Online Auction Terms: All items are offered "As-I
 s\, Where-Is" with no warranties or guarantees of any kind. A
 ll sales are final with no returns\, refunds\, or exchanges. P
 review items on Thursday\, August 23rd between 3:00-6:00PM. O
 nline Only Auction - All items must be removed from the home
  between 1:00-5:00PM on Friday\, August 24th. If you can not 
 pick up during this time\, do not bid in this auction. Furnit
 ure buyers\, make plans to rent a van or truck for the schedu
 led pick-up time. For All items not removed within the speci
 fic time will be considered abandoned. There is a 15% Buyer'
 s Premium added to all purchases\, with a 3% discount for cas
 h or check payments made at the time of pick-up. Payment by 
 Visa or MasterCard\, Cash or Check on pick-up day. Lots will 
 close on August 23rd at 7:00PM with three lots selling every
  minute. Any lot with bidding within the last few moments of
  the closing will receive extended bidding time to give all 
 buyers ample time to respond. Please print a copy of your re
 ceipt and present it on the day of pick-up before removing y
 our items. NEITHER AUCTIONEER\, NOR SELLER ARE OBLIGATED TO H
 ELP BUYERS IN REMOVING ITEMS FROM THE HOME. NO SHIPPING OFFE
 RED ON ANY LOTS PURCHASED. Buyers\, their associates\, represe
 ntatives\, employees or contracted help are responsible for a
 ll items after purchase\, and any damage to the home caused w
 hile items are being removed. R Craig Damewood Auctioneer\, L
 LC (703) 303-4760\, bidding support (540) 454-2326. Pick Up Q
 uestions - (703) 401-7085 Craig Damewood Auctioneer\, VA LIC 
 #680
URL:https://www.damewoodauctioneers.com/auctions/detail/bw29647
SEQUENCE:1
END:VEVENT
END:VCALENDAR