BEGIN:VCALENDAR
VERSION:2.0
PRODID:-//ExpressionEngine Easy iCalendar plugin//NONSGML v2.0.0//EN
X-WR-TIMEZONE:America/New_York
X-WR-CALNAME:Upcoming Auctions
BEGIN:VEVENT
UID:37294
DTSTAMP:20190331T133011
DTSTART:20190331T133011
DTEND:20190331T143011
SUMMARY:Multi Estate Auction March 31 2019
LOCATION:Loudoun County Fairgrounds\, 17558 Dry Mill Road\, Leesburg\, V
 A 20175\, US
DESCRIPTION:Multi Estate Auction -Sunday\, March 31\, 2019 at Noon Preview
  at 10:00am on Auction Day -Loudoun Co. Fairgrounds\, 17558 D
 ry Mill Road\, Leesburg\, VA 20175 -Online Bidding Available o
 n Select Lots - Catalog Starts at 1:30PM - From the Houck Fa
 mily Trust\, this auction features several pieces of Maria Po
 veka Montoya Martinez pottery\, coin proof sets\, Indonesian d
 aggers\, and furniture\, plus furniture\, household and collect
 ibles from the Estate of Ralph C. Campbell\, Jr.\, the Estate 
 of Dorothy A. Campbell of Inwood\, WV\, plus furniture from a 
 Purcellville\, VA Estate.
URL:https://www.damewoodauctioneers.com/auctions/detail/bw37294
SEQUENCE:1
END:VEVENT
END:VCALENDAR