BEGIN:VCALENDAR
VERSION:2.0
PRODID:-//ExpressionEngine Easy iCalendar plugin//NONSGML v2.0.1//EN
X-WR-TIMEZONE:America/New_York
X-WR-CALNAME:Upcoming Auctions
BEGIN:VEVENT
UID:39260
DTSTAMP:20190601T110006
DTSTART:20190601T110006
DTEND:20190601T120006
SUMMARY:Estate of Abie Quesenberry
LOCATION:43157 Lucketts Road\, Leesburg\, VA 20176\, US
DESCRIPTION:ESTATE MACHINERY AND TOOL AUCTION Saturday June 1\, 2019 at 9
 :30AM Cataloged Machinery to be sold at 11:00AM Estate of Ab
 ie Quesenberry 43157 Lucketts Road\, Leesburg\, VA 20176 This 
 is a Live On-Site Auction with Internet Bidding through this
  App only available on 20 +/- lots.  More items offered for
  Live Bidding Only!
URL:https://www.damewoodauctioneers.com/auctions/detail/bw39260
SEQUENCE:1
END:VEVENT
END:VCALENDAR