BEGIN:VCALENDAR
VERSION:2.0
PRODID:-//ExpressionEngine Easy iCalendar plugin//NONSGML v2.0.0//EN
X-WR-TIMEZONE:America/New_York
X-WR-CALNAME:Upcoming Auctions
BEGIN:VEVENT
UID:62968
DTSTAMP:20210430T165504
DTSTART:20210430T165504
DTEND:20210430T175504
SUMMARY:Audio Equipment\, Furniture\, Household\, Glassware
LOCATION:17558 Dry Mill Road\, Leesburg\, VA 20175\, US
DESCRIPTION:More than 250 Lots Up For Bid! - Virtual Auction of 200+ lo
 ts from The Estate of Dorothy Myers of Hamilton\, VA\, and oth
 er sellers moving out of the region\, and down-sizing. 
URL:https://www.damewoodauctioneers.com/auctions/detail/bw62968
SEQUENCE:1
END:VEVENT
END:VCALENDAR