BEGIN:VCALENDAR
VERSION:2.0
PRODID:-//ExpressionEngine Easy iCalendar plugin//NONSGML v2.0.1//EN
X-WR-TIMEZONE:America/Toronto
X-WR-CALNAME:Upcoming Auctions
BEGIN:VEVENT
UID:8368
DTSTAMP:20170225T093000
DTSTART:20170225T093000
DTEND:20170225T225900
SUMMARY:Firearm Collection from The Estate of Robert Argodale
LOCATION:Loudoun County Fairgrounds\, 17558 Dry Mill Road\, Leesburg\, V
 A 20175\, US
DESCRIPTION:Estate Firearm & Ammunition Auction Sat. February 25\, 2017 a
 t 9:30 AM Loudoun County Fairgrounds -- Sykes Hall 17558 Dry
  Mill Road\, Leesburg\, VA 20175 Auction will take place at Sy
 kes Hall at the Loudoun County Fairgrounds in a temperature 
 controlled\, seated\, and comfortable bidding environment. At 
 the request of Frank Pugh\, Executor\, Damewood Auctioneers wi
 ll offer the firearms\, gun supplies\, and ammunition for the 
 Estate of Robert Argodale of Sterling\, VA at auction.  This
  collection includes modern pistols\, revolvers\, assault rifl
 es\, shotguns and early 20th century U.S. and European milit
 ary rifles.  Buyers will also find a variety of ammunition\,
  cleaning supplies and several gun safes.  Bid live in-pers
 on\, or through the Damewood Auctioneers bidding app where yo
 u can bid from your home\, or enter a max bid (absentee bid) 
 for the computer to bid on your behalf. All firearms will be
  transferred through Loudoun Guns Inc.\, Leesburg\, VA and wil
 l be available on Monday at 1PM following the auction for pi
 ck up. Damewood Auctioneers will not transfer any firearms a
 t the auction site to any buyer\, regardless of whether the p
 urchaser has a valid FFL.  All transfers will happen at Lou
 doun Guns\, Inc. and the fees are $25.00 per firearm.  Plea
 se call us with any questions about this transfer policy. R.
  Craig Damewood VAAR# 680 R. Craig Damewood Auctioneer\, LLC
  703-303-4760 or 540-454-2326 craig@damewoodauctioneers.com 
  
URL:https://www.damewoodauctioneers.com/auctions/detail/bw8368
SEQUENCE:1
END:VEVENT
END:VCALENDAR